BEGIN:VCALENDAR
VERSION:2.0
PRODID:-//ජපානයේ අපි - ECPv6.15.13.1//NONSGML v1.0//EN
CALSCALE:GREGORIAN
METHOD:PUBLISH
X-WR-CALNAME:ජපානයේ අපි
X-ORIGINAL-URL:https://japanayeapi.com
X-WR-CALDESC:Events for ජපානයේ අපි
REFRESH-INTERVAL;VALUE=DURATION:PT1H
X-Robots-Tag:noindex
X-PUBLISHED-TTL:PT1H
BEGIN:VTIMEZONE
TZID:UTC
BEGIN:STANDARD
TZOFFSETFROM:+0000
TZOFFSETTO:+0000
TZNAME:UTC
DTSTART:20230101T000000
END:STANDARD
END:VTIMEZONE
BEGIN:VEVENT
DTSTART;TZID=UTC:20240114T163000
DTEND;TZID=UTC:20240114T190000
DTSTAMP:20260421T165948
CREATED:20231205T123753Z
LAST-MODIFIED:20231205T124903Z
UID:432-1705249800-1705258800@japanayeapi.com
SUMMARY:කතුරු මිතුරු - කනගවා
DESCRIPTION:“කතුරු මිතුරු” ජපන් සංචාරයේ දෙවැන්න කනගවා හි දී\nටිකට්පත් සීමිත ප්‍රමාණයක් පමණක් තිබෙන බැවින් ඔබේ ටිකට්පත අදම වෙන්කරවා ගන්න.
URL:https://japanayeapi.com/event/%e0%b6%9a%e0%b6%ad%e0%b7%94%e0%b6%bb%e0%b7%94-%e0%b6%b8%e0%b7%92%e0%b6%ad%e0%b7%94%e0%b6%bb%e0%b7%94-%e0%b6%9a%e0%b6%b1%e0%b6%9c%e0%b7%80%e0%b7%8f/
LOCATION:HUMAX Cinema\, Kanagawa\, Japan
CATEGORIES:Movies
ATTACH;FMTTYPE=image/jpeg:https://japanayeapi.com/wp-content/uploads/2023/12/IMG_2861.jpg
END:VEVENT
END:VCALENDAR