BEGIN:VCALENDAR
VERSION:2.0
PRODID:-//ජපානයේ අපි - ECPv6.15.20//NONSGML v1.0//EN
CALSCALE:GREGORIAN
METHOD:PUBLISH
X-WR-CALNAME:ජපානයේ අපි
X-ORIGINAL-URL:https://japanayeapi.com
X-WR-CALDESC:Events for ජපානයේ අපි
REFRESH-INTERVAL;VALUE=DURATION:PT1H
X-Robots-Tag:noindex
X-PUBLISHED-TTL:PT1H
BEGIN:VTIMEZONE
TZID:UTC
BEGIN:STANDARD
TZOFFSETFROM:+0000
TZOFFSETTO:+0000
TZNAME:UTC
DTSTART:20230101T000000
END:STANDARD
END:VTIMEZONE
BEGIN:VEVENT
DTSTART;TZID=UTC:20240105T180000
DTEND;TZID=UTC:20240105T180000
DTSTAMP:20260423T133919
CREATED:20231218T051031Z
LAST-MODIFIED:20231218T051220Z
UID:491-1704477600-1704477600@japanayeapi.com
SUMMARY:කලීෆා සහ පිටකවරේ
DESCRIPTION:
URL:https://japanayeapi.com/event/%e0%b6%9a%e0%b6%bd%e0%b7%93%e0%b7%86%e0%b7%8f-%e0%b7%83%e0%b7%84-%e0%b6%b4%e0%b7%92%e0%b6%a7%e0%b6%9a%e0%b7%80%e0%b6%bb%e0%b7%9a/
CATEGORIES:Musical
ATTACH;FMTTYPE=image/jpeg:https://japanayeapi.com/wp-content/uploads/2023/12/410633888_734509054945922_6228729796123327885_n-2.jpg
END:VEVENT
END:VCALENDAR